BEGIN:VCALENDAR
VERSION:2.0
PRODID:spatie/icalendar-generator
DESCRIPTION:Événements de Marcheur des Bois
X-WR-CALDESC:Événements de Marcheur des Bois
REFRESH-INTERVAL;VALUE=DURATION:PT1440M
X-PUBLISHED-TTL:PT1440M
BEGIN:VTIMEZONE
TZID:America/Toronto
BEGIN:STANDARD
DTSTART:20251102T020000Z
TZOFFSETFROM:-0400
TZOFFSETTO:-0500
END:STANDARD
BEGIN:DAYLIGHT
DTSTART:20260308T020000Z
TZOFFSETFROM:-0500
TZOFFSETTO:-0400
END:DAYLIGHT
END:VTIMEZONE
BEGIN:VTIMEZONE
TZID:UTC
BEGIN:STANDARD
DTSTART:20250727T084510Z
TZOFFSETFROM:+0000
TZOFFSETTO:+0000
END:STANDARD
END:VTIMEZONE
BEGIN:VEVENT
UID:109-96
DTSTAMP:20260423T084510Z
SUMMARY:Fête des Semences - Pépinière Locas - Laval
LOCATION:Pépinière Locas 3254\, boul. Ste-Rose  Laval Québec H7P 4K8
ORGANIZER;CN=Marie-Renée Buczkowski:MAILTO:marcheurdesbois62@gmail.com
DTSTART;TZID=America/Toronto:20260308T093000
DTEND;TZID=America/Toronto:20260308T153000
X-ALT-DESC;FMTTYPE=TEXT/HTML:
CATEGORIES:Marchés publics
URL;VALUE=URI:https://marcheurdesbois.ca/mc-events/fete-des-semences-pepini
 ere-locas-laval/
METHOD:PUBLISH
END:VEVENT
END:VCALENDAR